Package: BUScorrect Version: 1.20.0 Command: /Library/Frameworks/R.framework/Resources/bin/R CMD build --keep-empty-dirs --no-resave-data BUScorrect StartedAt: 2024-03-03 16:06:57 -0500 (Sun, 03 Mar 2024) EndedAt: 2024-03-03 16:09:20 -0500 (Sun, 03 Mar 2024) EllapsedTime: 143.6 seconds RetCode: 0 Status: OK PackageFile: BUScorrect_1.20.0.tar.gz PackageFileSize: 3.517 MiB