Package: BUScorrect Version: 1.20.0 Command: /home/biocbuild/R/R-4.3.1/bin/R CMD build --keep-empty-dirs --no-resave-data BUScorrect StartedAt: 2023-11-01 22:57:14 -0000 (Wed, 01 Nov 2023) EndedAt: 2023-11-01 23:00:42 -0000 (Wed, 01 Nov 2023) EllapsedTime: 207.3 seconds RetCode: 0 Status: OK PackageFile: BUScorrect_1.20.0.tar.gz PackageFileSize: 3.509 MiB