Package: BUS Version: 1.58.0 Command: /Library/Frameworks/R.framework/Resources/bin/R CMD check --install=check:BUS.install-out.txt --library=/Library/Frameworks/R.framework/Resources/library --no-vignettes --timings BUS_1.58.0.tar.gz StartedAt: 2024-03-03 19:22:10 -0500 (Sun, 03 Mar 2024) EndedAt: 2024-03-03 19:22:43 -0500 (Sun, 03 Mar 2024) EllapsedTime: 32.8 seconds RetCode: 0 Status: OK CheckDir: BUS.Rcheck Warnings: 0