Package: BUMHMM Version: 1.26.0 Command: /Library/Frameworks/R.framework/Resources/bin/R CMD check --install=check:BUMHMM.install-out.txt --library=/Library/Frameworks/R.framework/Resources/library --no-vignettes --timings BUMHMM_1.26.0.tar.gz StartedAt: 2024-04-16 00:11:50 -0400 (Tue, 16 Apr 2024) EndedAt: 2024-04-16 00:18:17 -0400 (Tue, 16 Apr 2024) EllapsedTime: 387.6 seconds RetCode: 0 Status: OK CheckDir: BUMHMM.Rcheck Warnings: 0