Package: BUMHMM Version: 1.26.0 Command: /home/biocbuild/R/R-4.3.1/bin/R CMD check --install=check:BUMHMM.install-out.txt --library=/home/biocbuild/R/R-4.3.1/site-library --no-vignettes --timings BUMHMM_1.26.0.tar.gz StartedAt: 2023-11-02 08:55:38 -0000 (Thu, 02 Nov 2023) EndedAt: 2023-11-02 09:00:08 -0000 (Thu, 02 Nov 2023) EllapsedTime: 270.1 seconds RetCode: 0 Status: OK CheckDir: BUMHMM.Rcheck Warnings: 0