Package: BUMHMM Version: 1.26.0 Command: /home/biocbuild/R/R-4.3.1/bin/R CMD build --keep-empty-dirs --no-resave-data BUMHMM StartedAt: 2023-11-01 22:56:22 -0000 (Wed, 01 Nov 2023) EndedAt: 2023-11-01 22:57:15 -0000 (Wed, 01 Nov 2023) EllapsedTime: 53.1 seconds RetCode: 0 Status: OK PackageFile: BUMHMM_1.26.0.tar.gz PackageFileSize: 700.1 KiB