Package: BSgenomeForge Version: 1.2.3 Command: F:\biocbuild\bbs-3.18-bioc\R\bin\R.exe CMD check --no-multiarch --install=check:BSgenomeForge.install-out.txt --library=F:\biocbuild\bbs-3.18-bioc\R\library --no-vignettes --timings BSgenomeForge_1.2.3.tar.gz StartedAt: 2024-04-15 22:54:23 -0400 (Mon, 15 Apr 2024) EndedAt: 2024-04-15 22:58:29 -0400 (Mon, 15 Apr 2024) EllapsedTime: 245.2 seconds RetCode: 1 Status: ERROR CheckDir: BSgenomeForge.Rcheck Warnings: NA