Package: BSgenomeForge Version: 1.2.3 Command: rm -rf BSgenomeForge.buildbin-libdir && mkdir BSgenomeForge.buildbin-libdir && F:\biocbuild\bbs-3.18-bioc\R\bin\R.exe CMD INSTALL --build --library=BSgenomeForge.buildbin-libdir BSgenomeForge_1.2.3.tar.gz StartedAt: 2024-04-16 06:44:24 -0400 (Tue, 16 Apr 2024) EndedAt: 2024-04-16 06:45:05 -0400 (Tue, 16 Apr 2024) EllapsedTime: 41.8 seconds RetCode: 0 Status: OK PackageFile: BSgenomeForge_1.2.3.zip PackageFileSize: 312.1 KiB