Package: BSgenomeForge Version: 1.2.2 Command: /Library/Frameworks/R.framework/Resources/bin/R CMD INSTALL BSgenomeForge StartedAt: 2024-03-03 15:20:46 -0500 (Sun, 03 Mar 2024) EndedAt: 2024-03-03 15:21:32 -0500 (Sun, 03 Mar 2024) EllapsedTime: 45.6 seconds RetCode: 0 Status: OK