Package: BSgenomeForge Version: 1.2.1 Command: /Library/Frameworks/R.framework/Resources/bin/R CMD check --install=check:BSgenomeForge.install-out.txt --library=/Library/Frameworks/R.framework/Resources/library --no-vignettes --timings BSgenomeForge_1.2.1.tar.gz StartedAt: 2024-02-11 19:02:37 -0500 (Sun, 11 Feb 2024) EndedAt: 2024-02-11 19:07:19 -0500 (Sun, 11 Feb 2024) EllapsedTime: 281.2 seconds RetCode: 0 Status: OK CheckDir: BSgenomeForge.Rcheck Warnings: 0