Package: BSgenomeForge Version: 1.2.2 Command: /Library/Frameworks/R.framework/Resources/bin/R CMD build --keep-empty-dirs --no-resave-data BSgenomeForge StartedAt: 2024-03-03 16:06:24 -0500 (Sun, 03 Mar 2024) EndedAt: 2024-03-03 16:07:03 -0500 (Sun, 03 Mar 2024) EllapsedTime: 39.1 seconds RetCode: 1 Status: ERROR PackageFile: None PackageFileSize: NA