Package: BSgenomeForge Version: 1.2.0 Command: /home/biocbuild/R/R-4.3.1/bin/R CMD check --install=check:BSgenomeForge.install-out.txt --library=/home/biocbuild/R/R-4.3.1/site-library --no-vignettes --timings BSgenomeForge_1.2.0.tar.gz StartedAt: 2023-11-02 08:53:47 -0000 (Thu, 02 Nov 2023) EndedAt: 2023-11-02 09:00:40 -0000 (Thu, 02 Nov 2023) EllapsedTime: 413.0 seconds RetCode: 0 Status: OK CheckDir: BSgenomeForge.Rcheck Warnings: 0