Package: BRGenomics Version: 1.14.1 Command: chmod a+r BRGenomics -R && F:\biocbuild\bbs-3.18-bioc\R\bin\R.exe CMD build --keep-empty-dirs --no-resave-data BRGenomics StartedAt: 2024-04-15 17:22:19 -0400 (Mon, 15 Apr 2024) EndedAt: 2024-04-15 17:24:14 -0400 (Mon, 15 Apr 2024) EllapsedTime: 115.7 seconds RetCode: 0 Status: OK PackageFile: BRGenomics_1.14.1.tar.gz PackageFileSize: 3.639 MiB