Package: BRAIN Version: 1.48.0 Command: /Library/Frameworks/R.framework/Resources/bin/R CMD INSTALL BRAIN StartedAt: 2024-04-15 15:12:06 -0400 (Mon, 15 Apr 2024) EndedAt: 2024-04-15 15:12:29 -0400 (Mon, 15 Apr 2024) EllapsedTime: 22.9 seconds RetCode: 0 Status: OK