Package: BRAIN Version: 1.48.0 Command: /home/biocbuild/R/R-4.3.1/bin/R CMD check --install=check:BRAIN.install-out.txt --library=/home/biocbuild/R/R-4.3.1/site-library --no-vignettes --timings BRAIN_1.48.0.tar.gz StartedAt: 2023-11-02 08:51:56 -0000 (Thu, 02 Nov 2023) EndedAt: 2023-11-02 08:52:55 -0000 (Thu, 02 Nov 2023) EllapsedTime: 59.2 seconds RetCode: 0 Status: WARNINGS CheckDir: BRAIN.Rcheck Warnings: 2