Package: BOBaFIT Version: 1.6.0 Command: /home/biocbuild/bbs-3.18-bioc/R/bin/R CMD build --keep-empty-dirs --no-resave-data BOBaFIT StartedAt: 2024-04-15 16:15:04 -0400 (Mon, 15 Apr 2024) EndedAt: 2024-04-15 16:16:39 -0400 (Mon, 15 Apr 2024) EllapsedTime: 94.4 seconds RetCode: 0 Status: OK PackageFile: BOBaFIT_1.6.0.tar.gz PackageFileSize: 2.498 MiB