Package: BOBaFIT Version: 1.6.0 Command: /Library/Frameworks/R.framework/Resources/bin/R CMD INSTALL BOBaFIT StartedAt: 2024-03-03 15:29:17 -0500 (Sun, 03 Mar 2024) EndedAt: 2024-03-03 15:30:30 -0500 (Sun, 03 Mar 2024) EllapsedTime: 72.4 seconds RetCode: 0 Status: OK