Package: BOBaFIT Version: 1.6.0 Command: /Library/Frameworks/R.framework/Resources/bin/R CMD build --keep-empty-dirs --no-resave-data BOBaFIT StartedAt: 2024-03-03 16:05:07 -0500 (Sun, 03 Mar 2024) EndedAt: 2024-03-03 16:07:04 -0500 (Sun, 03 Mar 2024) EllapsedTime: 117.2 seconds RetCode: 0 Status: OK PackageFile: BOBaFIT_1.6.0.tar.gz PackageFileSize: 2.498 MiB