Package: BOBaFIT Version: 1.6.0 Command: /home/biocbuild/R/R-4.3.1/bin/R CMD INSTALL BOBaFIT StartedAt: 2023-11-01 20:39:50 -0000 (Wed, 01 Nov 2023) EndedAt: 2023-11-01 20:41:04 -0000 (Wed, 01 Nov 2023) EllapsedTime: 73.9 seconds RetCode: 0 Status: OK