Package: BLMA Version: 1.26.0 Command: /Library/Frameworks/R.framework/Resources/bin/R CMD build --keep-empty-dirs --no-resave-data BLMA StartedAt: 2024-04-15 17:20:05 -0400 (Mon, 15 Apr 2024) EndedAt: 2024-04-15 17:30:09 -0400 (Mon, 15 Apr 2024) EllapsedTime: 604.8 seconds RetCode: 0 Status: OK PackageFile: BLMA_1.26.0.tar.gz PackageFileSize: 2.826 MiB