Package: BLMA Version: 1.26.0 Maintainer: Hung Nguyen MaintainerEmail: hungnp at nevada.unr.edu git_url: https://git.bioconductor.org/packages/BLMA git_branch: RELEASE_3_18 git_last_commit: c63d0ef git_last_commit_date: 2023-10-24 10:57:02 -0400 (Tue, 24 Oct 2023)