Package: BHC Version: 1.54.0 Command: rm -rf BHC.buildbin-libdir && mkdir BHC.buildbin-libdir && F:\biocbuild\bbs-3.18-bioc\R\bin\R.exe CMD INSTALL --build --library=BHC.buildbin-libdir BHC_1.54.0.tar.gz StartedAt: 2024-04-16 06:41:48 -0400 (Tue, 16 Apr 2024) EndedAt: 2024-04-16 06:42:27 -0400 (Tue, 16 Apr 2024) EllapsedTime: 39.1 seconds RetCode: 0 Status: OK PackageFile: BHC_1.54.0.zip PackageFileSize: 502.4 KiB