Package: BHC Version: 1.54.0 Command: /Library/Frameworks/R.framework/Resources/bin/R CMD INSTALL BHC StartedAt: 2024-03-03 15:10:59 -0500 (Sun, 03 Mar 2024) EndedAt: 2024-03-03 15:11:15 -0500 (Sun, 03 Mar 2024) EllapsedTime: 16.8 seconds RetCode: 1 Status: ERROR