Package: BG2 Version: 1.2.0 Command: /home/biocbuild/bbs-3.18-bioc/R/bin/R CMD build --keep-empty-dirs --no-resave-data BG2 StartedAt: 2024-04-15 16:07:44 -0400 (Mon, 15 Apr 2024) EndedAt: 2024-04-15 16:17:03 -0400 (Mon, 15 Apr 2024) EllapsedTime: 559.1 seconds RetCode: 0 Status: OK PackageFile: BG2_1.2.0.tar.gz PackageFileSize: 1.131 MiB