Package: BDMMAcorrect Version: 1.20.0 Command: /Library/Frameworks/R.framework/Resources/bin/R CMD build --keep-empty-dirs --no-resave-data BDMMAcorrect StartedAt: 2024-03-03 15:57:34 -0500 (Sun, 03 Mar 2024) EndedAt: 2024-03-03 16:02:20 -0500 (Sun, 03 Mar 2024) EllapsedTime: 286.2 seconds RetCode: 0 Status: OK PackageFile: BDMMAcorrect_1.20.0.tar.gz PackageFileSize: 395.6 KiB