Package: BCRANK Version: 1.64.0 Command: rm -rf BCRANK.buildbin-libdir && mkdir BCRANK.buildbin-libdir && F:\biocbuild\bbs-3.18-bioc\R\bin\R.exe CMD INSTALL --build --library=BCRANK.buildbin-libdir BCRANK_1.64.0.tar.gz StartedAt: 2024-04-16 06:40:52 -0400 (Tue, 16 Apr 2024) EndedAt: 2024-04-16 06:41:18 -0400 (Tue, 16 Apr 2024) EllapsedTime: 25.6 seconds RetCode: 0 Status: OK PackageFile: BCRANK_1.64.0.zip PackageFileSize: 2.287 MiB