Package: BCRANK Version: 1.64.0 Command: /home/biocbuild/bbs-3.18-bioc/R/bin/R CMD check --install=check:BCRANK.install-out.txt --library=/home/biocbuild/bbs-3.18-bioc/R/site-library --timings BCRANK_1.64.0.tar.gz StartedAt: 2024-04-15 20:19:26 -0400 (Mon, 15 Apr 2024) EndedAt: 2024-04-15 20:20:48 -0400 (Mon, 15 Apr 2024) EllapsedTime: 81.7 seconds RetCode: 0 Status: OK CheckDir: BCRANK.Rcheck Warnings: 0