Package: BCRANK Version: 1.64.0 Command: /Library/Frameworks/R.framework/Resources/bin/R CMD check --install=check:BCRANK.install-out.txt --library=/Library/Frameworks/R.framework/Resources/library --no-vignettes --timings BCRANK_1.64.0.tar.gz StartedAt: 2024-04-15 23:37:18 -0400 (Mon, 15 Apr 2024) EndedAt: 2024-04-15 23:40:17 -0400 (Mon, 15 Apr 2024) EllapsedTime: 179.2 seconds RetCode: 0 Status: OK CheckDir: BCRANK.Rcheck Warnings: 0