Package: BBCAnalyzer Version: 1.32.0 Command: F:\biocbuild\bbs-3.18-bioc\R\bin\R.exe CMD check --no-multiarch --install=check:BBCAnalyzer.install-out.txt --library=F:\biocbuild\bbs-3.18-bioc\R\library --no-vignettes --timings BBCAnalyzer_1.32.0.tar.gz StartedAt: 2024-04-15 22:32:52 -0400 (Mon, 15 Apr 2024) EndedAt: 2024-04-15 22:38:28 -0400 (Mon, 15 Apr 2024) EllapsedTime: 335.8 seconds RetCode: 0 Status: WARNINGS CheckDir: BBCAnalyzer.Rcheck Warnings: 1