Package: BBCAnalyzer Version: 1.32.0 Command: rm -rf BBCAnalyzer.buildbin-libdir && mkdir BBCAnalyzer.buildbin-libdir && F:\biocbuild\bbs-3.18-bioc\R\bin\R.exe CMD INSTALL --build --library=BBCAnalyzer.buildbin-libdir BBCAnalyzer_1.32.0.tar.gz StartedAt: 2024-04-16 06:40:50 -0400 (Tue, 16 Apr 2024) EndedAt: 2024-04-16 06:41:53 -0400 (Tue, 16 Apr 2024) EllapsedTime: 62.9 seconds RetCode: 0 Status: OK PackageFile: BBCAnalyzer_1.32.0.zip PackageFileSize: 1.942 MiB