Package: BBCAnalyzer Version: 1.32.0 Command: /Library/Frameworks/R.framework/Resources/bin/R CMD build --keep-empty-dirs --no-resave-data BBCAnalyzer StartedAt: 2024-03-03 15:57:27 -0500 (Sun, 03 Mar 2024) EndedAt: 2024-03-03 16:06:15 -0500 (Sun, 03 Mar 2024) EllapsedTime: 528.4 seconds RetCode: 0 Status: OK PackageFile: BBCAnalyzer_1.32.0.tar.gz PackageFileSize: 2.202 MiB