Package: BASiCStan Version: 1.4.0 Command: /home/biocbuild/bbs-3.18-bioc/R/bin/R CMD build --keep-empty-dirs --no-resave-data BASiCStan StartedAt: 2024-04-15 16:03:49 -0400 (Mon, 15 Apr 2024) EndedAt: 2024-04-15 16:08:55 -0400 (Mon, 15 Apr 2024) EllapsedTime: 306.2 seconds RetCode: 0 Status: OK PackageFile: BASiCStan_1.4.0.tar.gz PackageFileSize: 61.24 KiB