Package: BASiCS Version: 2.14.0 Command: F:\biocbuild\bbs-3.18-bioc\R\bin\R.exe CMD INSTALL BASiCS StartedAt: 2024-04-15 16:37:03 -0400 (Mon, 15 Apr 2024) EndedAt: 2024-04-15 16:38:41 -0400 (Mon, 15 Apr 2024) EllapsedTime: 97.9 seconds RetCode: 0 Status: OK