Package: BASiCS Version: 2.14.0 Command: chmod a+r BASiCS -R && F:\biocbuild\bbs-3.18-bioc\R\bin\R.exe CMD build --keep-empty-dirs --no-resave-data BASiCS StartedAt: 2024-04-15 17:03:52 -0400 (Mon, 15 Apr 2024) EndedAt: 2024-04-15 17:06:14 -0400 (Mon, 15 Apr 2024) EllapsedTime: 141.2 seconds RetCode: 0 Status: OK PackageFile: BASiCS_2.14.0.tar.gz PackageFileSize: 2.939 MiB