Package: BANDITS Version: 1.18.1 Command: chmod a+r BANDITS -R && F:\biocbuild\bbs-3.18-bioc\R\bin\R.exe CMD build --keep-empty-dirs --no-resave-data BANDITS StartedAt: 2024-04-15 17:03:19 -0400 (Mon, 15 Apr 2024) EndedAt: 2024-04-15 17:06:27 -0400 (Mon, 15 Apr 2024) EllapsedTime: 187.9 seconds RetCode: 0 Status: OK PackageFile: BANDITS_1.18.1.tar.gz PackageFileSize: 1.056 MiB