Package: BANDITS Version: 1.18.1 Command: rm -rf BANDITS.buildbin-libdir && mkdir BANDITS.buildbin-libdir && F:\biocbuild\bbs-3.18-bioc\R\bin\R.exe CMD INSTALL --build --library=BANDITS.buildbin-libdir BANDITS_1.18.1.tar.gz StartedAt: 2024-04-16 06:40:09 -0400 (Tue, 16 Apr 2024) EndedAt: 2024-04-16 06:41:51 -0400 (Tue, 16 Apr 2024) EllapsedTime: 102.6 seconds RetCode: 0 Status: OK PackageFile: BANDITS_1.18.1.zip PackageFileSize: 1.748 MiB