Package: BANDITS Version: 1.18.1 Command: /Library/Frameworks/R.framework/Resources/bin/R CMD INSTALL BANDITS StartedAt: 2024-04-15 15:38:18 -0400 (Mon, 15 Apr 2024) EndedAt: 2024-04-15 15:40:42 -0400 (Mon, 15 Apr 2024) EllapsedTime: 143.5 seconds RetCode: 0 Status: OK