Package: BANDITS Version: 1.18.0 Command: /home/biocbuild/R/R-4.3.1/bin/R CMD INSTALL BANDITS StartedAt: 2023-11-01 20:19:00 -0000 (Wed, 01 Nov 2023) EndedAt: 2023-11-01 20:20:47 -0000 (Wed, 01 Nov 2023) EllapsedTime: 106.8 seconds RetCode: 0 Status: OK