Package: BANDITS Version: 1.18.0 Command: /home/biocbuild/R/R-4.3.1/bin/R CMD check --install=check:BANDITS.install-out.txt --library=/home/biocbuild/R/R-4.3.1/site-library --no-vignettes --timings BANDITS_1.18.0.tar.gz StartedAt: 2023-11-02 08:29:06 -0000 (Thu, 02 Nov 2023) EndedAt: 2023-11-02 08:32:43 -0000 (Thu, 02 Nov 2023) EllapsedTime: 216.9 seconds RetCode: 0 Status: OK CheckDir: BANDITS.Rcheck Warnings: 0