Package: BAGS Version: 2.42.0 Command: /Library/Frameworks/R.framework/Resources/bin/R CMD INSTALL BAGS StartedAt: 2024-04-15 15:04:47 -0400 (Mon, 15 Apr 2024) EndedAt: 2024-04-15 15:04:56 -0400 (Mon, 15 Apr 2024) EllapsedTime: 8.7 seconds RetCode: 0 Status: OK