Package: BAGS Version: 2.42.0 Command: /Library/Frameworks/R.framework/Resources/bin/R CMD check --install=check:BAGS.install-out.txt --library=/Library/Frameworks/R.framework/Resources/library --no-vignettes --timings BAGS_2.42.0.tar.gz StartedAt: 2024-03-03 19:01:33 -0500 (Sun, 03 Mar 2024) EndedAt: 2024-03-03 19:03:23 -0500 (Sun, 03 Mar 2024) EllapsedTime: 109.5 seconds RetCode: 0 Status: OK CheckDir: BAGS.Rcheck Warnings: 0