Package: ArrayExpress Version: 1.62.0 Command: /home/biocbuild/bbs-3.18-bioc/R/bin/R CMD build --keep-empty-dirs --no-resave-data ArrayExpress StartedAt: 2024-04-15 15:59:03 -0400 (Mon, 15 Apr 2024) EndedAt: 2024-04-15 16:01:34 -0400 (Mon, 15 Apr 2024) EllapsedTime: 150.5 seconds RetCode: 0 Status: OK PackageFile: ArrayExpress_1.62.0.tar.gz PackageFileSize: 137 KiB