Package: ArrayExpress Version: 1.62.0 Command: /home/biocbuild/R/R-4.3.1/bin/R CMD INSTALL ArrayExpress StartedAt: 2023-11-01 20:18:26 -0000 (Wed, 01 Nov 2023) EndedAt: 2023-11-01 20:19:04 -0000 (Wed, 01 Nov 2023) EllapsedTime: 37.6 seconds RetCode: 0 Status: OK