Package: ArrayExpress Version: 1.62.0 Command: /home/biocbuild/R/R-4.3.1/bin/R CMD build --keep-empty-dirs --no-resave-data ArrayExpress StartedAt: 2023-11-01 22:17:45 -0000 (Wed, 01 Nov 2023) EndedAt: 2023-11-01 22:24:28 -0000 (Wed, 01 Nov 2023) EllapsedTime: 402.5 seconds RetCode: 0 Status: OK PackageFile: ArrayExpress_1.62.0.tar.gz PackageFileSize: 133.1 KiB