Package: AnnotationForge Version: 1.44.0 Command: rm -rf AnnotationForge.buildbin-libdir && mkdir AnnotationForge.buildbin-libdir && /Users/biocbuild/BBS/utils/build-universal.sh AnnotationForge_1.44.0.tar.gz /Library/Frameworks/R.framework/Resources/bin/R AnnotationForge.buildbin-libdir StartedAt: 2024-03-04 00:28:50 -0500 (Mon, 04 Mar 2024) EndedAt: 2024-03-04 00:29:20 -0500 (Mon, 04 Mar 2024) EllapsedTime: 30.0 seconds RetCode: 0 Status: OK PackageFile: AnnotationForge_1.44.0.tgz PackageFileSize: 4.184 MiB