Package: AnnotationForge Version: 1.44.0 Command: /home/biocbuild/R/R-4.3.1/bin/R CMD build --keep-empty-dirs --no-resave-data AnnotationForge StartedAt: 2023-11-01 22:16:23 -0000 (Wed, 01 Nov 2023) EndedAt: 2023-11-01 22:20:06 -0000 (Wed, 01 Nov 2023) EllapsedTime: 223.3 seconds RetCode: 0 Status: OK PackageFile: AnnotationForge_1.44.0.tar.gz PackageFileSize: 3.801 MiB