Package: AneuFinder Version: 1.30.0 Command: rm -rf AneuFinder.buildbin-libdir && mkdir AneuFinder.buildbin-libdir && /Users/biocbuild/BBS/utils/build-universal.sh AneuFinder_1.30.0.tar.gz /Library/Frameworks/R.framework/Resources/bin/R AneuFinder.buildbin-libdir StartedAt: 2024-04-16 10:58:36 -0400 (Tue, 16 Apr 2024) EndedAt: 2024-04-16 10:59:57 -0400 (Tue, 16 Apr 2024) EllapsedTime: 80.8 seconds RetCode: 0 Status: OK PackageFile: AneuFinder_1.30.0.tgz PackageFileSize: 2.456 MiB