Package: Anaquin Version: 2.26.0 Command: rm -rf Anaquin.buildbin-libdir && mkdir Anaquin.buildbin-libdir && /Users/biocbuild/BBS/utils/build-universal.sh Anaquin_2.26.0.tar.gz /Library/Frameworks/R.framework/Resources/bin/R Anaquin.buildbin-libdir StartedAt: 2024-04-16 10:58:26 -0400 (Tue, 16 Apr 2024) EndedAt: 2024-04-16 10:58:38 -0400 (Tue, 16 Apr 2024) EllapsedTime: 11.9 seconds RetCode: 0 Status: OK PackageFile: Anaquin_2.26.0.tgz PackageFileSize: 455.3 KiB