Package: Anaquin Version: 2.26.0 Command: /Library/Frameworks/R.framework/Resources/bin/R CMD build --keep-empty-dirs --no-resave-data Anaquin StartedAt: 2024-03-03 15:52:00 -0500 (Sun, 03 Mar 2024) EndedAt: 2024-03-03 15:52:31 -0500 (Sun, 03 Mar 2024) EllapsedTime: 30.4 seconds RetCode: 0 Status: OK PackageFile: Anaquin_2.26.0.tar.gz PackageFileSize: 452.2 KiB