Package: Anaquin Version: 2.26.0 Command: /home/biocbuild/R/R-4.3.1/bin/R CMD check --install=check:Anaquin.install-out.txt --library=/home/biocbuild/R/R-4.3.1/site-library --no-vignettes --timings Anaquin_2.26.0.tar.gz StartedAt: 2023-11-02 08:17:09 -0000 (Thu, 02 Nov 2023) EndedAt: 2023-11-02 08:18:10 -0000 (Thu, 02 Nov 2023) EllapsedTime: 61.1 seconds RetCode: 0 Status: OK CheckDir: Anaquin.Rcheck Warnings: 0